BEGIN:VCALENDAR
VERSION:1.0
PRODID:Open2CKalenderExportV11
BEGIN:VEVENT
DTSTAMP:20220810T104712Z
DTSTART:20221126T150000Z
DTEND:20221126T150000Z
CATEGORIES:Vereine
SUMMARY:Endschießen und -feier mit Königsproklamation
DESCRIPTION: | Organisator   Freischütz Geltendorf
LOCATION:Schützenheim
UID:a422fdcae484e8c759b9abe70e40c210-c54ab913a6e78d24440cb12321c3321e
PRIORITY:3
END:VEVENT
END:VCALENDAR
