BEGIN:VCALENDAR
VERSION:1.0
PRODID:Open2CKalenderExportV11
BEGIN:VEVENT
DTSTAMP:20220810T105227Z
DTSTART:20230422T100000Z
DTEND:20230422T100000Z
CATEGORIES:Vereine
SUMMARY:Dorfmeisterschaftsschießen
DESCRIPTION: | Organisator   Freischütz Geltendorf
LOCATION:Schützenheim
UID:4f15710e25523d1448fa8a645b76c62c-22119b97a091d9eb3b95b2f1b3794d2a
PRIORITY:3
END:VEVENT
END:VCALENDAR
