BEGIN:VCALENDAR
VERSION:1.0
PRODID:Open2CKalenderExportV11
BEGIN:VEVENT
DTSTAMP:20230227T192229Z
DTSTART:20230310T190000Z
DTEND:20230310T190000Z
CATEGORIES:Vereine
SUMMARY:Jahreshauptversammlung
DESCRIPTION: | Organisator   Freischütz Geltendorf
LOCATION:Alter Wirt Geltendorf
UID:2d9e759ad48b12c9f1a03fffbf258784-22da796394a76969da84b21c6c2d8ae6
PRIORITY:3
END:VEVENT
BEGIN:VEVENT
DTSTAMP:20230107T204851Z
DTSTART:20230318T100000Z
DTEND:20230318T120000Z
CATEGORIES:Vereine
SUMMARY:Frühjahrsbasar_2023
DESCRIPTION: | Organisator   Elternbeirat Kath. KITA
LOCATION:Pfarrheim Geltendorf
UID:9031867dd3d8b7d4f892934a97c73041-58588e39d90b66fad74a7c411b5e46f1
PRIORITY:3
END:VEVENT
BEGIN:VEVENT
DTSTAMP:20230227T193637Z
DTSTART:20230319T170000Z
DTEND:20230319T170000Z
CATEGORIES:Kirche
SUMMARY:Kirchenkonzert und Passionsandacht
DESCRIPTION: | Organisator   Canditius Quartett | Kontakt   Gerhart Schneeweiss
LOCATION:St. Stephan Geltendorf
UID:12bb2b9be37adf4bc1ae40f5030d80a6-7dfe5bd4d2db379ecad3b728131213e2
PRIORITY:3
END:VEVENT
END:VCALENDAR
