BEGIN:VCALENDAR
VERSION:1.0
PRODID:Open2CKalenderExportV11
BEGIN:VEVENT
DTSTAMP:20241227T183923Z
DTSTART:20250108T190000Z
DTEND:20250108T190000Z
CATEGORIES:Vereine
SUMMARY:Bergsteigerstammtisch
DESCRIPTION:Am 8. Januar um 19:00 Uhr findet wieder unser Bergsteigerstammtisch im Vereinsheim statt. Alle Mitglieder und Interessierte sind herzlich eingeladen, unseren Verein kennenzulernen oder einfach nur in gemütlicher Runde zu ratschen. | Organisator   DAV Sektion Geltendorf | Kontakt   Renate Maier |  | 08193-99 99 01
LOCATION:Vereinsheim DAV Geltendorf, Am Sportplatz 2, Geltendorf
UID:45f914c0452f8bfb3a4107dd980d3650-5a7025c52d123fc90b7ab0bc048d14cd
PRIORITY:3
END:VEVENT
BEGIN:VEVENT
DTSTAMP:20241227T184404Z
DTSTART:20250117T200000Z
DTEND:20250117T200000Z
CATEGORIES:Vereine
SUMMARY:Bildervortrag Sardinien
DESCRIPTION:Sardinien ist bekannt für traumhaften Strände, türkisfarbenes Wasser und zerklüftete Landschaften. Die Insel bietet jedoch nicht nur Ziele für Badeurlauber und Wassersportler. Während inzwischen vier Reisen nach Sardinien haben wir die Bergwelt der Insel erwandert und eine sehr vielfältige und ursprüngliche Natur vorgefunden. | Organisator   DAV Sektion Geltendorf | Kontakt   Renate Maier |  | 08193-99 99 01
LOCATION:Vereinsheim DAV Geltendorf, Am Sportplatz 2, Geltendorf
UID:64cd38aa835aca707fb75f540cae2b36-46a72a8552142e74298a4faf70edb512
PRIORITY:3
END:VEVENT
BEGIN:VEVENT
DTSTAMP:20241115T192915Z
DTSTART:20250125T140000Z
DTEND:20250125T140000Z
CATEGORIES:Vereine
SUMMARY:Jahreshauptversammlung  Frauenbund Geltendorf mit Hausen und Kaltenberg
DESCRIPTION:Jahreshauptversammlungdes Frauenbundes Geltendorf mit Hausen und Kaltenberg-nur für Mitglieder-Gottesdienst für die Verstorbenen am Sonntag 19.01.2025weitere Informationen im Internet: pfarrei-geltendorf.de | Organisator   Frauenbund Geltendorf mit Hausen und Kaltenberg | Kontakt   Silvia Feyrsinger |  | 08193 / 9980979
LOCATION:Pfarrheim Geltendorf
UID:7d23a80a0b7af5d595580b914a9c460d-62df88cba491c018722f1038dcdcb633
PRIORITY:3
END:VEVENT
BEGIN:VEVENT
DTSTAMP:20240916T195248Z
DTSTART:20250125T200000Z
DTEND:20250125T200000Z
CATEGORIES:Vereine
SUMMARY:Schützenball
DESCRIPTION:
LOCATION:Paartalhalle Walleshausen
UID:9b10a2c44844281a7c6c33cc9703e5df-57ef5ac4eadc30d455b3511e39bb24e8
PRIORITY:3
END:VEVENT
BEGIN:VEVENT
DTSTAMP:20241009T131110Z
DTSTART:20250131T210000Z
DTEND:20250131T210000Z
CATEGORIES:Vereine
SUMMARY:Faschingsparty Geltendorf
DESCRIPTION:Auch im Jahr 2025 wird der TSV Geltendorf wieder sein Faschingswochenende in der Turnhalle Geltendorf veranstalten! | Am Freitag geht es los mit der Faschingsparty mit DJ Fossi.Einlass ist ab 21:00 Uhr.Eintritt: 8,- EuroEinlass ab 16 Jahren (mit Aufsichtszettel) | Wir freuen uns auf schöne und bunte Maskierungen! | Organisator   TSV Geltendorf e.V. | Kontakt   Maximilian Pott
LOCATION:Turnhalle Geltendorf
UID:6f376fb6e2f60c2cb7947fa81b2a2710-01a3107bc52cef0fa544ca3bed07a371
PRIORITY:3
END:VEVENT
END:VCALENDAR
