BEGIN:VCALENDAR
VERSION:1.0
PRODID:Open2CKalenderExportV11
BEGIN:VEVENT
DTSTAMP:20250929T185502Z
DTSTART:20261018T140000Z
DTEND:20261018T140000Z
CATEGORIES:Vereine
SUMMARY:Kirchweihbrauchtum
DESCRIPTION:Am Kirchweihsonntag veranstalten wir vom Trachtenverein Geltendorf seit vielen Jahren die "Geltendorfer Kirta".Ab 14 Uhr gibt's an unserem Vereinsheim in Kaltenberg, Schönauer Ring, selbstgebackene Kiachal und Kirta-Nudeln sowie Kaffee und Kuchen; Jung und Alt kann sich auf der Kirta-Hutsch'n vergnügen und gemeinsam diese besondere Schaukel erleben.Wir freuen uns auf Ihren Besuch. | Organisator   Heimat- u. Trachtenverein Geltendorf | Kontakt   Wolfgang Kurz |  | 08193 8803
LOCATION:Vereinsheim des Trachtenvereins in Kaltenberg, Schönauer Ring (beim Gemeinde-Bauhof)
UID:8bf00cbb2c85456a5fa2e77f52f8104f-e9ad8a0ee0093cf7c3560ea4d7aa2af6
PRIORITY:3
END:VEVENT
END:VCALENDAR
