BEGIN:VCALENDAR
VERSION:1.0
PRODID:Open2CKalenderExportV11
BEGIN:VEVENT
DTSTAMP:20260326T093134Z
DTSTART:20260703T150000Z
DTEND:20260703T190000Z
CATEGORIES:Vereine
SUMMARY:Sommerfest der Grundschule
DESCRIPTION:Ausweichtermin: 10.7.26 von 15:00 bis 19:00 Uhr | Organisator   Förderverein "Freundeskreis der Grundschule Geltendorf |  | Elternbeirat der Grundschule
LOCATION:Grundschule Geltendorf
UID:0d3fe80cf6b3583292444c3a7f8ca564-87c6408c43523e1df91fc95b7e8d6774
PRIORITY:3
END:VEVENT
BEGIN:VEVENT
DTSTAMP:20260420T083409Z
DTSTART:20260705T140000Z
DTEND:20260705T140000Z
CATEGORIES:Vereine
SUMMARY:Pfarrhof-Café
DESCRIPTION:An jedem ersten Sonntag im Monat kann bei selbstgemachten Kuchen, frisch ge\nühtem Kaffee und Erfrischungsgetränken bei schönem Wetter auf der lauschigen Terrasse des Pfarrgartens oder bei schlechtem Wetter im barocken Pfarrhof von Walleshausen ein gemütlicher Nachmittag ver\nacht werden. Das Café wird von einem kleinen Team ehrenamtlicher Helfer liebevoll aufgezogen. Das Team vom Pfarrhof-Café heißt Sie gerne (wieder) willkommen! | Organisator   Freunde des Pfarrhofs Walleshausen e. V. | Kontakt   Kontakt : Monika Lang, Tel.Nr.: 0151 65404155, eMail-Adresse: info@pfarrhof-walleshausen.de
LOCATION:Pfarrhof Walleshausen
UID:045d04a92df5c749c6fa7cd67e2abc50-5d9da7f5e4b7e6906096936f6f75979c
PRIORITY:3
END:VEVENT
BEGIN:VEVENT
DTSTAMP:20250929T184202Z
DTSTART:20260718T100000Z
DTEND:20260718T100000Z
CATEGORIES:Vereine
SUMMARY:TTC Volleyballtunier für ALLE
DESCRIPTION:Wir richten ein Volleyball-Tunier für ALLE aus. An dem Tag sind Freizeitteams, Gelegenheitsspieler der Ortsvereine und/oder Sportmannschaften mit je 6 Spielern herzlich willkommen. Wir spielen Beach, outdoor und indoor - je nach Möglichkeiten. Spass am Spiel und eine lustige gemeinsame Zeit sind das Ziel - für die Organisation sorgen wir - ihr meldet euch an und \ningt die gute Stimmung und den Spass am Sport mit. Details zum Ablauf und den Anmeldungen folgen. | Für Stimmung und Verpflegung ist gesorgt: Kaffee+Kuchen, Grill, Getränke, Bar und Bierausschank warten auf euch - abends feiern wir dann die Sieger :-) | Organisator   TTC Geltendorf e.V. | Kontakt   Sandra Tenschert |  | 08193-2339919
LOCATION:TTC Vereinsgelände
UID:a8efb4ea3a59bc8758300b6742740d7b-76c468062ee892beeeaa1dafa71d5b79
PRIORITY:3
END:VEVENT
BEGIN:VEVENT
DTSTAMP:20250601T183956Z
DTSTART:20260724T180000Z
DTEND:20260724T180000Z
CATEGORIES:Vereine
SUMMARY:Festwochenende zum 75-jährigen Bestehen des Schützvereins Enzian Hausen
DESCRIPTION:Zum 75-jährigen Bestehen des Schützvereins Enzian Hausen veranstalten wir ein Festwochenende. Am Freitag, den 24.07.2026 tritt der bekannte Münchner Kabarettist und Liedermacher Roland Hefter auf. | Organisator   Schützenverein Enzian Hausen e. V. | Kontakt   Richard Czeschka
LOCATION:Hausen
UID:0dd11d5842e42085bed2c5885c47bd52-c2d603499c6f0babe2adb9c23665beca
PRIORITY:3
END:VEVENT
BEGIN:VEVENT
DTSTAMP:20251210T120325Z
DTSTART:20260724T180000Z
DTEND:20260724T180000Z
CATEGORIES:Vereine
SUMMARY:Festwochenende zum 75-jährigen Jubiläum vom Schützenverein Enzian Hausen
DESCRIPTION:Festprogramm:-&gt; am Freitag, den 24.07.2026ab 18:00 Uhr Einlass mit Bewirtungum 20:00 Uhr Auftritt von Roland Hefter (bekannter Münchner Kabarettist und Liedermacher); Kartenvorverkauf ab 09.01.2026 unter Tel. 0159 06050799 (Mo-Fr. 19 - 21 Uhr) und Freitags im Schützenheim 19 - 22 Uhr (St.-Nikolaus-Ring 19, Hausen)ab 22:30 Uhr Gemütlicher Ausklang mit Musik und Barbetrieb-&gt; am Samstag, den 25.07.2026um 18:30 Uhr Abendlicher Festgottesdienstab 19:30 Uhr Bewirtung mit Ansprachen und Unterhaltung durch die Hauser Dorfmusikantenab 21:30 Uhr Partyabend mit DJ und Barbetrieb | Organisator   Schützenverein Enzian Hausen e. V. | Kontakt   Czeschka Richard | 08193998141 |  | enzian-hausen@gmx.de
LOCATION:Hausen, Hauptstr. 9
UID:0dd11d5842e42085bed2c5885c47bd52-56a17bbd72b3a18d7c8b3a88c2e760c8
PRIORITY:3
END:VEVENT
END:VCALENDAR
