BEGIN:VCALENDAR
VERSION:1.0
PRODID:Open2CKalenderExportV11
BEGIN:VEVENT
DTSTAMP:20260330T090415Z
DTSTART:20260428T184500Z
DTEND:20260428T193000Z
URL:https://ris.komuna.net/geltendorf/app/sitzungen/495704229
SUMMARY:Zweckverbandssitzung
DESCRIPTION:
LOCATION:Sitzungssaal der Gemeinde Geltendorf
UID:b9be0a9a517ce6f9532d9da85359c1e9-ed63454a6607de6eae4ad910ac021a78
PRIORITY:3
END:VEVENT
BEGIN:VEVENT
DTSTAMP:20260330T090359Z
DTSTART:20260428T193000Z
DTEND:20260428T223000Z
URL:https://ris.komuna.net/geltendorf/app/sitzungen/490388295
SUMMARY:Gemeinderatssitzung
DESCRIPTION: | Organisator   Gemeinde Geltendorf
LOCATION:Sitzungssaal Rathaus
UID:dbff725b557926618873886f11ea29f9-0696684f45c890c058ca054516243450
PRIORITY:3
END:VEVENT
END:VCALENDAR
