BEGIN:VCALENDAR
VERSION:1.0
PRODID:Open2CKalenderExportV11
BEGIN:VEVENT
DTSTAMP:20260418T180045Z
DTSTART:20260802T140000Z
DTEND:20260802T140000Z
CATEGORIES:Vereine
SUMMARY:Grillfest des MGV 1889 Gemischter Chor Geltendorf
DESCRIPTION:Wie jedes Jahr am ersten Sonntag im August findet auch dieses Jahr am 2. August wieder unser Grillfest auf der Viehweide statt. Für das leibliche Wohl sorgt der Geltendorfer Gesangverein mit einer reichhaltigen Kuchenauswahl und Kaffee, Fassbier, Aperol Spritz und alkoholfreien Getränken sowie Fleisch und Wurst vom Grill. Auch ein vegetarisches Gericht werden wir wieder anbieten.Das Grillfest findet bei jedem Wetter statt. | Organisator   MGV 1889 Gemischter Chor Geltendorf | Kontakt   Erika Popfinger |  | 08193/8835 |  | Gesangverein-Geltendorf@gmx.de
LOCATION:Viehweide
UID:0c8762d95884e8d76a54d5f6086bfc10-bc16905c688810cae88b534aee0af58e
PRIORITY:3
END:VEVENT
BEGIN:VEVENT
DTSTAMP:20260420T083433Z
DTSTART:20260802T140000Z
DTEND:20260802T140000Z
CATEGORIES:Vereine
SUMMARY:Pfarrhof-Café
DESCRIPTION:An jedem ersten Sonntag im Monat kann bei selbstgemachten Kuchen, frisch ge\nühtem Kaffee und Erfrischungsgetränken bei schönem Wetter auf der lauschigen Terrasse des Pfarrgartens oder bei schlechtem Wetter im barocken Pfarrhof von Walleshausen ein gemütlicher Nachmittag ver\nacht werden. Das Café wird von einem kleinen Team ehrenamtlicher Helfer liebevoll aufgezogen. Das Team vom Pfarrhof-Café heißt Sie gerne (wieder) willkommen! | Organisator   Freunde des Pfarrhofs Walleshausen e. V. | Kontakt   Kontakt : Monika Lang, Tel.Nr.: 0151 65404155, eMail-Adresse: info@pfarrhof-walleshausen.de
LOCATION:Pfarrhof Walleshausen
UID:0c8762d95884e8d76a54d5f6086bfc10-5d9da7f5e4b7e6906096936f6f75979c
PRIORITY:3
END:VEVENT
BEGIN:VEVENT
DTSTAMP:20260129T141922Z
DTSTART:20260803T080000Z
DTEND:20260809T000000Z
CATEGORIES:Vereine
SUMMARY:Deutsch-Französisches Treffen    Gemeindefahrt 2026
DESCRIPTION:Gemeindefahrt nach St. Victor sur Loire in Frankreich – 03. bis 09. August 2026 |   | Jetzt anmelden und mitreisen! |   | Der Deutsch-Französische Freundeskreis lädt herzlich zur nächsten Reise in unsere französische Partnergemeinde St. Victor-sur-Loire ein. Das idyllische Dorf liegt an der Loire, südlich von Lyon, und ist bekannt für seine landschaftliche Schönheit und herzliche Gastfreundschaft. |   | Wann?03. – 09. August 2026 |   | Wer kann mitfahren?Familien, Jugendliche und alle interessierten Bürgerinnen und Bürger – wir freuen uns über jede Teilnahme! |   | Was erwartet Sie? |  | Ein abwechslungsreiches Kultur- und Freizeitprogramm | Gemeinsame Busfahrt | Unter\ningung bei Gastfamilien in St. Victor | Persönliche Begegnungen und Einblicke in das französische Alltagsleben |  |   | Interesse? | Dann melden Sie sich bitte bei Frau Valérie Guérin-Sendelbach  – am besten per E-Mail: v.sendelbach@yahoo.de oder telefonisch: 08193-996577Anmeldeschluss und weitere Infos (Kosten für die Busfahrt etc.) folgen Ende dieses Jahres. Jetzt schon unverbindlich Interesse bekunden und dabei sein!Wir freuen uns auf eine großartige Reise mit vielen neuen Eindrücken und netten Begegnungen! | Organisator   Deutsch-Französischer Freundeskreis | Kontakt   Valérie Guérin-Sendelbach | 08193-996577 | eMail: v.sendelbach@yahoo.de
LOCATION:Saint-Victor-sur-Loire (Frankreich)
UID:d78a79f3bb5025e80daf2671190cb607-bd870b716f4b780f4aea9da82d579b7c
PRIORITY:3
END:VEVENT
BEGIN:VEVENT
DTSTAMP:20260127T101640Z
DTSTART:20260814T150000Z
DTEND:20260814T150000Z
CATEGORIES:Vereine
URL:frauenbund-geltendorf@pfarrei-geltendorf.de
SUMMARY:Kräuterbuschen binden
DESCRIPTION:Wir binden gemeinsam mit dem Obst und Gartenbauverein Kräuterbuschen. | Organisator   Frauenbund Geltendorf mit Hausen und Geltendorf | Kontakt   Silvia Feyrsinger, Tel.Nr.: 017657652666, eMail-Adresse: frauenbund-geltendorf@pfarrei-geltendorf.de
LOCATION:kath. Pfarrheim Geltendorf
UID:5cf9cd59c75b6170f95ef9dae8afa041-6a01531d3462b342b51294fd7035f9f8
PRIORITY:3
END:VEVENT
BEGIN:VEVENT
DTSTAMP:20260413T133828Z
DTSTART:20260816T000000Z
DTEND:20260816T000000Z
CATEGORIES:Vereine
SUMMARY:Rocking on Hausens Door Vol. 2
DESCRIPTION:Benefizveranstaltung zugunsten der Kinderkrebsforschung. Beginnend mit Familiennachmittag und gegen Abend wird es zum Open Air mit drei Bands. | Weitere Informationen folgen nach meinen Besprechungen mit Jugendamt und Polizei. | Organisator   Thomas Keil | Kontakt   Thomas Keil
LOCATION:Hausen
UID:8ae366718a28fa3051f077a09655e0a0-70e45a1f10d7936c73997bac866dd6c7
PRIORITY:3
END:VEVENT
END:VCALENDAR
