BEGIN:VCALENDAR
VERSION:1.0
PRODID:Open2CKalenderExportV11
BEGIN:VEVENT
DTSTAMP:20260420T083440Z
DTSTART:20260607T140000Z
DTEND:20260607T140000Z
CATEGORIES:Vereine
SUMMARY:Pfarrhof-Café
DESCRIPTION:An jedem ersten Sonntag im Monat kann bei selbstgemachten Kuchen, frisch ge\nühtem Kaffee und Erfrischungsgetränken bei schönem Wetter auf der lauschigen Terrasse des Pfarrgartens oder bei schlechtem Wetter im barocken Pfarrhof von Walleshausen ein gemütlicher Nachmittag ver\nacht werden. Das Café wird von einem kleinen Team ehrenamtlicher Helfer liebevoll aufgezogen. Das Team vom Pfarrhof-Café heißt Sie gerne (wieder) willkommen! | Organisator   Freunde des Pfarrhofs Walleshausen e. V. | Kontakt   Kontakt : Monika Lang, Tel.Nr.: 0151 65404155, eMail-Adresse: info@pfarrhof-walleshausen.de
LOCATION:Pfarrhof Walleshausen
UID:e2f824fcfd30eba79219dd0dfd183f0a-5d9da7f5e4b7e6906096936f6f75979c
PRIORITY:3
END:VEVENT
BEGIN:VEVENT
DTSTAMP:20260328T191846Z
DTSTART:20260614T140000Z
DTEND:20260614T170000Z
CATEGORIES:Vereine
SUMMARY:„Kaffeeklatschkonzert“
DESCRIPTION:Das Blasorchester und das Jugendblasorchester laden herzlich ein zum „Kaffeeklatschkonzert“ . | Ver\ningt einen gemütlichen Sommernachmittag mit selbstgebackenem Kuchen, Kaffee und feinster Blasmusik. Ab 14 Uhr geht’s los. | Wir freuen uns auf Euch! |   | Organisator   Blasorchester Geltendorf | Kontakt   Petra Schulz |  | Tel. 08193 9906123
LOCATION:Schulhof vor dem Musikschuleingang (Rückwärtiges Schulgebäude), bei schlechtem Wetter in der Schulaula
UID:d3dbb88d7225e051c3832bfbf5a73967-9c3784e46b78f89326c79cc2fa7fecc5
PRIORITY:3
END:VEVENT
END:VCALENDAR
