BEGIN:VCALENDAR
VERSION:1.0
PRODID:Open2CKalenderExportV11
BEGIN:VEVENT
DTSTAMP:20260425T145336Z
DTSTART:20260605T200000Z
DTEND:20260605T200000Z
CATEGORIES:Vereine
SUMMARY:Bildervortrag Toskana
DESCRIPTION:Bildervortrag: ToskanaWir laden Sie herzlich zu einem Bildervortrag über die Toskana ein.Um 1000 v. Chr. wanderten die Etrusker in das Gebiet der heutigen Toskana ein. Im 4. und 3. Jahrhundert v. Chr. wurden die Städte von Rom erobert.Die Region ist bekannt für ihren Chianti-Wein sowie als Heimat von Puccini und Leonardo da Vinci. Auch die Vespa hat hier ihren Ursprung – seit 1946 wurden über 20 Millionen dieser Roller gebaut.Vortrag von Hartmut Engel - Eintritt kostenlosDer Vortrag gibt Einblicke in Landschaft, Orte und Hintergründe dieser vielseitigen Region. | Organisator   DAV Sektion Geltendorf | Kontakt   Renate Maier |  | 08193-99 99 01 |  | renate.maier@dav-geltendorf.de
LOCATION:Vereinsheim DAV Geltendorf, Am Sportplatz 2
UID:859a2fdf0a388d8af219e6ce540add1d-a95179f2a65907da9f14e2dd4db10d95
PRIORITY:3
END:VEVENT
END:VCALENDAR
