BEGIN:VCALENDAR
VERSION:1.0
PRODID:Open2CKalenderExportV11
BEGIN:VEVENT
DTSTAMP:20260425T145815Z
DTSTART:20260703T200000Z
DTEND:20260703T200000Z
CATEGORIES:Vereine
SUMMARY:Bildervortrag El Hierro & Teneriffa
DESCRIPTION:Reisebericht mit Bildern: Zwei Wochen KanarenIm März ver\nachten wir zwei abwechslungsreiche Wochen auf den Kanarischen Inseln – eine Woche auf El Hierro und eine weitere auf Teneriffa.Die Reise führte uns durch ganz unterschiedliche Stimmungen: strahlender Sonnenschein wechselte sich mit starken Regenfällen ab und ließ die Inseln immer wieder in einem neuen Licht erscheinen. Wir entdeckten dichte Regenwälder, raue Küsten, geheimnisvolle Tunnel und Höhlen sowie eine beeindruckende Vielfalt an Natur.Neben den Bildern erzählst du auch kleine Geschichten von besonderen Begegnungen, überraschenden Momenten und Erlebnissen unterwegs – genau jene Augenblicke, die eine Reise unvergesslich machen.Freu dich auf einen lebendigen Reisebericht voller Natur, Stimmung und persönlicher Eindrücke.Von Renate und Christoph Maier - Eintritt kostenlos | Organisator   DAV Sektion Geltendorf | Kontakt   Renate Maier |  | 08193-99 99 01 |  | renate.maier@dav-geltendorf.de
LOCATION:Vereinsheim DAV Geltendorf, Am Sportplatz 2
UID:f555bc0850dfb947eadbfe362c1ca705-63b8c5b250bff8b9bb3b102aca492649
PRIORITY:3
END:VEVENT
END:VCALENDAR
