BEGIN:VCALENDAR
VERSION:1.0
PRODID:Open2CKalenderExportV11
BEGIN:VEVENT
DTSTAMP:20260425T150409Z
DTSTART:20260731T200000Z
DTEND:20260731T200000Z
CATEGORIES:Vereine
SUMMARY:Bildervortrag Wales
DESCRIPTION:Wales - im Zeichen der roten Drachen Vortrag von Mike Page - Eintritt kostenlosUnsere Beziehung zu Wales fing vor 40 Jahren an, während wir beide in der Küstenstadt Aberystwyth studierten. In jüngster Zeit haben wir das Verhältnis zu diesem grünen Land an der Wetterseite von England etwas auffrischen können, da unser Sohn sich ebenfalls im Süden von Wales zum Studieren einschrieb. Ich möchte euch nun in vier Kapiteln durch Wales führen, von Tenby im Süden bis zur Insel Angelsey im Norden mit Zwischenhalt bei den Papageientaucher auf Skomer und auf Wales’ höchstem Berg Yr Wyddfa (Snowdon). Sowohl die Landschaft als auch die Tier- und Pflanzenwelt zeigen sich von ihrer Glanzseite. | Organisator   DAV Sektion Geltendorf | Kontakt   Renate Maier |  | 08193-99 99 01 |  | renate.maier@dav-geltendorf.de
LOCATION:Vereinsheim DAV Geltendorf, Am Sportplatz 2
UID:21347d7eed8430733d0822701c69aed2-1c414a32e0cd9a4bbfa0688d61c0e4f3
PRIORITY:3
END:VEVENT
END:VCALENDAR
