BEGIN:VCALENDAR
VERSION:2.0
PRODID:< http://www.open2c.de/ >
METHOD:PUBLISH
X-PUBLISHED-TTL:PT12H
BEGIN:VEVENT
CREATED:20220810T104213Z
LAST-MODIFIED:20220810T104712Z
ORGANIZER;CN="Freischütz Geltendorf"
DTSTAMP:20260425T195212Z
DTSTART;VALUE=DATE:20221126
CATEGORIES:Vereine
SUMMARY:Endschießen und -feier mit Königsproklamation
DESCRIPTION:Organisator Freischütz Geltendorf
LOCATION:Schützenheim
UID:7ed1480a7ab2a032cc5dde0822f06200@dcdf9bebcfa66aa47b7ed4288d9616e2
END:VEVENT
END:VCALENDAR