BEGIN:VCALENDAR
VERSION:2.0
PRODID:< http://www.open2c.de/ >
METHOD:PUBLISH
X-PUBLISHED-TTL:PT12H
BEGIN:VEVENT
CREATED:20230227T191913Z
LAST-MODIFIED:20230227T192229Z
ORGANIZER;CN="Freischütz Geltendorf"
DTSTAMP:20260425T121603Z
DTSTART;VALUE=DATE:20230310
CATEGORIES:Vereine
SUMMARY:Jahreshauptversammlung
DESCRIPTION:Organisator Freischütz Geltendorf
LOCATION:Alter Wirt Geltendorf
UID:d1ed496a358872c708dae8493702cff1@dcdf9bebcfa66aa47b7ed4288d9616e2
END:VEVENT
BEGIN:VEVENT
CREATED:20230107T204412Z
LAST-MODIFIED:20230107T204851Z
ORGANIZER;CN="Elternbeirat Kath. KITA"
DTSTAMP:20260425T121603Z
DTSTART:20230318T100000Z
DTEND:20230318T120000Z
CATEGORIES:Vereine
SUMMARY:Frühjahrsbasar_2023
DESCRIPTION:Organisator Elternbeirat Kath. KITA
LOCATION:Pfarrheim Geltendorf
UID:2b96b5389f987aa0e8361ffe405dcf2e@dcdf9bebcfa66aa47b7ed4288d9616e2
END:VEVENT
BEGIN:VEVENT
CREATED:20230227T192501Z
LAST-MODIFIED:20230227T193637Z
ORGANIZER;CN="Canditius Quartett":MAILTO:Gerhart Schneeweiss
DTSTAMP:20260425T121603Z
DTSTART;VALUE=DATE:20230319
CATEGORIES:Kirche
SUMMARY:Kirchenkonzert und Passionsandacht
DESCRIPTION:Organisator Canditius Quartett Kontakt Gerhart Schneeweiss
LOCATION:St. Stephan Geltendorf
UID:ef8df39aaae676767eeaaf6e9e0cd2bb@dcdf9bebcfa66aa47b7ed4288d9616e2
END:VEVENT
END:VCALENDAR