BEGIN:VCALENDAR
VERSION:2.0
PRODID:< http://www.open2c.de/ >
METHOD:PUBLISH
X-PUBLISHED-TTL:PT12H
BEGIN:VEVENT
CREATED:20241227T183411Z
LAST-MODIFIED:20241227T183923Z
ORGANIZER;CN="DAV Sektion Geltendorf":MAILTO:Renate Maier\n\n08193-99 99 01
DTSTAMP:20260425T193755Z
DTSTART;VALUE=DATE:20250108
CATEGORIES:Vereine
SUMMARY:Bergsteigerstammtisch
DESCRIPTION:Am 8. Januar um 19:00 Uhr findet wieder unser Bergsteigerstammt
	isch im Vereinsheim statt. Alle Mitglieder und Interessierte sind herzlich
	 eingeladen\, unseren Verein kennenzulernen oder einfach nur in gemütliche
	r Runde zu ratschen. Organisator DAV Sektion Geltendorf Kontakt Renate Mai
	er 08193-99 99 01
LOCATION:Vereinsheim DAV Geltendorf\, Am Sportplatz 2\, Geltendorf
UID:d4637dd366fff5c1ac8e127a02f4468a@dcdf9bebcfa66aa47b7ed4288d9616e2
END:VEVENT
BEGIN:VEVENT
CREATED:20241227T184007Z
LAST-MODIFIED:20241227T184404Z
ORGANIZER;CN="DAV Sektion Geltendorf":MAILTO:Renate Maier\n\n08193-99 99 01
DTSTAMP:20260425T193755Z
DTSTART;VALUE=DATE:20250117
CATEGORIES:Vereine
SUMMARY:Bildervortrag Sardinien
DESCRIPTION:Sardinien ist bekannt für traumhaften Strände\, türkisfarbene
	s Wasser und zerklüftete Landschaften. Die Insel bietet jedoch nicht nur 
	Ziele für Badeurlauber und Wassersportler. Während inzwischen vier Reise
	n nach Sardinien haben wir die Bergwelt der Insel erwandert und eine sehr 
	vielfältige und ursprüngliche Natur vorgefunden. Organisator DAV Sektion
	 Geltendorf Kontakt Renate Maier 08193-99 99 01
LOCATION:Vereinsheim DAV Geltendorf\, Am Sportplatz 2\, Geltendorf
UID:2caa0a43139f07d2caffc4d387805658@dcdf9bebcfa66aa47b7ed4288d9616e2
END:VEVENT
BEGIN:VEVENT
CREATED:20241010T180333Z
LAST-MODIFIED:20241115T192915Z
ORGANIZER;CN="Frauenbund Geltendorf mit Hausen und Kaltenberg":MAILTO:Silvia Feyrsinger\n\n08193 / 9980979
DTSTAMP:20260425T193755Z
DTSTART;VALUE=DATE:20250125
CATEGORIES:Vereine
SUMMARY:Jahreshauptversammlung  Frauenbund Geltendorf mit Hausen und Kaltenberg
DESCRIPTION:Jahreshauptversammlungdes Frauenbundes Geltendorf mit Hausen un
	d Kaltenberg-nur für Mitglieder-Gottesdienst für die Verstorbenen am Son
	ntag 19.01.2025weitere Informationen im Internet: pfarrei-geltendorf.de Or
	ganisator Frauenbund Geltendorf mit Hausen und Kaltenberg Kontakt Silvia F
	eyrsinger 08193 / 9980979
LOCATION:Pfarrheim Geltendorf
UID:6f5ba856b4188fa5d6f467381c0bbd8a@dcdf9bebcfa66aa47b7ed4288d9616e2
END:VEVENT
BEGIN:VEVENT
CREATED:20240916T195109Z
LAST-MODIFIED:20240916T195248Z
DTSTAMP:20260425T193755Z
DTSTART;VALUE=DATE:20250125
CATEGORIES:Vereine
SUMMARY:Schützenball
LOCATION:Paartalhalle Walleshausen
UID:cecb16567152f497bbd39f2cdcac2073@dcdf9bebcfa66aa47b7ed4288d9616e2
END:VEVENT
BEGIN:VEVENT
CREATED:20241009T130705Z
LAST-MODIFIED:20241009T131110Z
ORGANIZER;CN="TSV Geltendorf e.V.":MAILTO:Maximilian Pott
DTSTAMP:20260425T193755Z
DTSTART;VALUE=DATE:20250131
CATEGORIES:Vereine
SUMMARY:Faschingsparty Geltendorf
DESCRIPTION:Auch im Jahr 2025 wird der TSV Geltendorf wieder sein Faschings
	wochenende in der Turnhalle Geltendorf veranstalten! Am Freitag geht es lo
	s mit der Faschingsparty mit DJ Fossi.Einlass ist ab 21:00 Uhr.Eintritt: 8
	\,- EuroEinlass ab 16 Jahren (mit Aufsichtszettel) Wir freuen uns auf schö
	ne und bunte Maskierungen! Organisator TSV Geltendorf e.V. Kontakt Maximil
	ian Pott
LOCATION:Turnhalle Geltendorf
UID:1d1a8c09005f58178e2824bc86b51248@dcdf9bebcfa66aa47b7ed4288d9616e2
END:VEVENT
END:VCALENDAR