BEGIN:VCALENDAR
VERSION:2.0
PRODID:< http://www.open2c.de/ >
METHOD:PUBLISH
X-PUBLISHED-TTL:PT12H
BEGIN:VEVENT
CREATED:20250929T185055Z
LAST-MODIFIED:20250929T185502Z
ORGANIZER;CN="Heimat- u. Trachtenverein Geltendorf":MAILTO:Wolfgang Kurz\n\n08193 8803
DTSTAMP:20260425T121436Z
DTSTART;VALUE=DATE:20261018
CATEGORIES:Vereine
SUMMARY:Kirchweihbrauchtum
DESCRIPTION:Am Kirchweihsonntag veranstalten wir vom Trachtenverein Geltend
	orf seit vielen Jahren die "Geltendorfer Kirta".Ab 14 Uhr gibt's an unsere
	m Vereinsheim in Kaltenberg\, Schönauer Ring\, selbstgebackene Kiachal und 
	Kirta-Nudeln sowie Kaffee und Kuchen\; Jung und Alt kann sich auf der Kirta
	-Hutsch'n vergnügen und gemeinsam diese besondere Schaukel erleben.Wir fr
	euen uns auf Ihren Besuch. Organisator Heimat- u. Trachtenverein Geltendor
	f Kontakt Wolfgang Kurz 08193 8803
LOCATION:Vereinsheim des Trachtenvereins in Kaltenberg\, Schönauer Ring (beim Gemeinde-Bauhof)
UID:f7913bed2d1a816fdf7863bc789784df@dcdf9bebcfa66aa47b7ed4288d9616e2
END:VEVENT
END:VCALENDAR