BEGIN:VCALENDAR
VERSION:2.0
PRODID:< http://www.open2c.de/ >
METHOD:PUBLISH
X-PUBLISHED-TTL:PT12H
BEGIN:VEVENT
CREATED:20260316T195510Z
LAST-MODIFIED:20260326T093134Z
ORGANIZER;CN="Förderverein "Freundeskreis der Grundschule Geltendorf\n\nElternbeirat der Grundschule"
DTSTAMP:20260425T135913Z
DTSTART:20260703T150000Z
DTEND:20260703T190000Z
CATEGORIES:Vereine
SUMMARY:Sommerfest der Grundschule
DESCRIPTION:Ausweichtermin: 10.7.26 von 15:00 bis 19:00 Uhr Organisator Fö
	rderverein "Freundeskreis der Grundschule Geltendorf Elternbeirat der Grun
	dschule
LOCATION:Grundschule Geltendorf
UID:cbc97949f6701a3519de5e2f1eb2efe1@dcdf9bebcfa66aa47b7ed4288d9616e2
END:VEVENT
BEGIN:VEVENT
CREATED:20260420T083253Z
LAST-MODIFIED:20260420T083409Z
ORGANIZER;CN="Freunde des Pfarrhofs Walleshausen e. V.":MAILTO:Kontakt : Monika Lang\, Tel.Nr.: 0151 65404155\, eMail-Adresse: info@pfarrhof-walleshausen.de
DTSTAMP:20260425T135913Z
DTSTART;VALUE=DATE:20260705
CATEGORIES:Vereine
SUMMARY:Pfarrhof-Café
DESCRIPTION:An jedem ersten Sonntag im Monat kann bei selbstgemachten Kuche
	n\, frisch gebrühtem Kaffee und Erfrischungsgetränken bei schönem Wetter
	 auf der lauschigen Terrasse des Pfarrgartens oder bei schlechtem Wetter i
	m barocken Pfarrhof von Walleshausen ein gemütlicher Nachmittag verbracht
	 werden. Das Café wird von einem kleinen Team ehrenamtlicher Helfer liebe
	voll aufgezogen. Das Team vom Pfarrhof-Café heißt Sie gerne (wieder) wil
	lkommen! Organisator Freunde des Pfarrhofs Walleshausen e. V. Kontakt Kont
	akt : Monika Lang\, Tel.Nr.: 0151 65404155\, eMail-Adresse: info@pfarrhof-wa
	lleshausen.de
LOCATION:Pfarrhof Walleshausen
UID:d3ae1d37db4ba054317404e1579433c6@dcdf9bebcfa66aa47b7ed4288d9616e2
END:VEVENT
BEGIN:VEVENT
CREATED:20250929T183807Z
LAST-MODIFIED:20250929T184202Z
ORGANIZER;CN="TTC Geltendorf e.V.":MAILTO:Sandra Tenschert\n\n08193-2339919
DTSTAMP:20260425T135913Z
DTSTART;VALUE=DATE:20260718
CATEGORIES:Vereine
SUMMARY:TTC Volleyballtunier für ALLE
DESCRIPTION:Wir richten ein Volleyball-Tunier für ALLE aus. An dem Tag sin
	d Freizeitteams\, Gelegenheitsspieler der Ortsvereine und/oder Sportmannsch
	aften mit je 6 Spielern herzlich willkommen. Wir spielen Beach\, outdoor un
	d indoor - je nach Möglichkeiten. Spass am Spiel und eine lustige gemeins
	ame Zeit sind das Ziel - für die Organisation sorgen wir - ihr meldet euc
	h an und bringt die gute Stimmung und den Spass am Sport mit. Details zum 
	Ablauf und den Anmeldungen folgen. Für Stimmung und Verpflegung ist gesor
	gt: Kaffee+Kuchen\, Grill\, Getränke\, Bar und Bierausschank warten auf euch
	 - abends feiern wir dann die Sieger :-) Organisator TTC Geltendorf e.V. K
	ontakt Sandra Tenschert 08193-2339919
LOCATION:TTC Vereinsgelände
UID:a970e765a9a027293e45c1d969d7e428@dcdf9bebcfa66aa47b7ed4288d9616e2
END:VEVENT
BEGIN:VEVENT
CREATED:20250601T183557Z
LAST-MODIFIED:20250601T183956Z
ORGANIZER;CN="Schützenverein Enzian Hausen e. V.":MAILTO:Richard Czeschka
DTSTAMP:20260425T135913Z
DTSTART;VALUE=DATE:20260724
CATEGORIES:Vereine
SUMMARY:Festwochenende zum 75-jährigen Bestehen des Schützvereins Enzian Hausen
DESCRIPTION:Zum 75-jährigen Bestehen des Schützvereins Enzian Hausen vera
	nstalten wir ein Festwochenende. Am Freitag\, den 24.07.2026 tritt der beka
	nnte Münchner Kabarettist und Liedermacher Roland Hefter auf. Organisator
	 Schützenverein Enzian Hausen e. V. Kontakt Richard Czeschka
LOCATION:Hausen
UID:cc3ba55294c2c1083f68e8ca772fab77@dcdf9bebcfa66aa47b7ed4288d9616e2
END:VEVENT
BEGIN:VEVENT
CREATED:20251201T142625Z
LAST-MODIFIED:20251210T120325Z
ORGANIZER;CN="Schützenverein Enzian Hausen e. V.":MAILTO:Czeschka Richard\n08193998141\n\nenzian-hausen@gmx.de
DTSTAMP:20260425T135913Z
DTSTART;VALUE=DATE:20260724
CATEGORIES:Vereine
SUMMARY:Festwochenende zum 75-jährigen Jubiläum vom Schützenverein Enzian Hausen
DESCRIPTION:Festprogramm:-&gt\; am Freitag\, den 24.07.2026ab 18:00 Uhr Einla
	ss mit Bewirtungum 20:00 Uhr Auftritt von Roland Hefter (bekannter Münchn
	er Kabarettist und Liedermacher)\; Kartenvorverkauf ab 09.01.2026 unter Tel
	. 0159 06050799 (Mo-Fr. 19 - 21 Uhr) und Freitags im Schützenheim 19 - 22
	 Uhr (St.-Nikolaus-Ring 19\, Hausen)ab 22:30 Uhr Gemütlicher Ausklang mit 
	Musik und Barbetrieb-&gt\; am Samstag\, den 25.07.2026um 18:30 Uhr Abendlich
	er Festgottesdienstab 19:30 Uhr Bewirtung mit Ansprachen und Unterhaltung 
	durch die Hauser Dorfmusikantenab 21:30 Uhr Partyabend mit DJ und Barbetri
	eb Organisator Schützenverein Enzian Hausen e. V. Kontakt Czeschka Richar
	d 08193998141 enzian-hausen@gmx.de
LOCATION:Hausen\, Hauptstr. 9
UID:0d7ca2d9bdd9b5c3d6c6da0b92649c86@dcdf9bebcfa66aa47b7ed4288d9616e2
END:VEVENT
END:VCALENDAR