BEGIN:VCALENDAR
VERSION:2.0
PRODID:< http://www.open2c.de/ >
METHOD:PUBLISH
X-PUBLISHED-TTL:PT12H
BEGIN:VEVENT
CREATED:20260418T175715Z
LAST-MODIFIED:20260418T180045Z
ORGANIZER;CN="MGV 1889 Gemischter Chor Geltendorf":MAILTO:Erika Popfinger\n\n08193/8835\n\nGesangverein-Geltendorf@gmx.de
DTSTAMP:20260425T163914Z
DTSTART;VALUE=DATE:20260802
CATEGORIES:Vereine
SUMMARY:Grillfest des MGV 1889 Gemischter Chor Geltendorf
DESCRIPTION:Wie jedes Jahr am ersten Sonntag im August findet auch dieses J
	ahr am 2. August wieder unser Grillfest auf der Viehweide statt. Für das 
	leibliche Wohl sorgt der Geltendorfer Gesangverein mit einer reichhaltigen
	 Kuchenauswahl und Kaffee\, Fassbier\, Aperol Spritz und alkoholfreien Getr
	änken sowie Fleisch und Wurst vom Grill. Auch ein vegetarisches Gericht w
	erden wir wieder anbieten.Das Grillfest findet bei jedem Wetter statt. Org
	anisator MGV 1889 Gemischter Chor Geltendorf Kontakt Erika Popfinger 08193
	/8835 Gesangverein-Geltendorf@gmx.de
LOCATION:Viehweide
UID:76e8bcd24a6384764b1ef7b98908bf07@dcdf9bebcfa66aa47b7ed4288d9616e2
END:VEVENT
BEGIN:VEVENT
CREATED:20260420T083255Z
LAST-MODIFIED:20260420T083433Z
ORGANIZER;CN="Freunde des Pfarrhofs Walleshausen e. V.":MAILTO:Kontakt : Monika Lang\, Tel.Nr.: 0151 65404155\, eMail-Adresse: info@pfarrhof-walleshausen.de
DTSTAMP:20260425T163914Z
DTSTART;VALUE=DATE:20260802
CATEGORIES:Vereine
SUMMARY:Pfarrhof-Café
DESCRIPTION:An jedem ersten Sonntag im Monat kann bei selbstgemachten Kuche
	n\, frisch gebrühtem Kaffee und Erfrischungsgetränken bei schönem Wetter
	 auf der lauschigen Terrasse des Pfarrgartens oder bei schlechtem Wetter i
	m barocken Pfarrhof von Walleshausen ein gemütlicher Nachmittag verbracht
	 werden. Das Café wird von einem kleinen Team ehrenamtlicher Helfer liebe
	voll aufgezogen. Das Team vom Pfarrhof-Café heißt Sie gerne (wieder) wil
	lkommen! Organisator Freunde des Pfarrhofs Walleshausen e. V. Kontakt Kont
	akt : Monika Lang\, Tel.Nr.: 0151 65404155\, eMail-Adresse: info@pfarrhof-wa
	lleshausen.de
LOCATION:Pfarrhof Walleshausen
UID:09e6d6affc7e1a0a35b9b79fbc7dbaa7@dcdf9bebcfa66aa47b7ed4288d9616e2
END:VEVENT
BEGIN:VEVENT
CREATED:20250923T180649Z
LAST-MODIFIED:20260129T141922Z
ORGANIZER;CN="Deutsch-Französischer Freundeskreis":MAILTO:Valérie Guérin-Sendelbach\n08193-996577\neMail: v.sendelbach@yahoo.de
DTSTAMP:20260425T163914Z
DTSTART:20260803T080000Z
DTEND:20260809T000000Z
CATEGORIES:Vereine
SUMMARY:Deutsch-Französisches Treffen    Gemeindefahrt 2026
DESCRIPTION:Gemeindefahrt nach St. Victor sur Loire in Frankreich – 03. b
	is 09. August 2026   Jetzt anmelden und mitreisen!   Der Deutsch-Franzö
	sische Freundeskreis lädt herzlich zur nächsten Reise in unsere französ
	ische Partnergemeinde St. Victor-sur-Loire ein. Das idyllische Dorf liegt 
	an der Loire\, südlich von Lyon\, und ist bekannt für seine landschaftlich
	e Schönheit und herzliche Gastfreundschaft.   Wann?03. – 09. August 20
	26   Wer kann mitfahren?Familien\, Jugendliche und alle interessierten Bü
	rgerinnen und Bürger – wir freuen uns über jede Teilnahme!   Was erwa
	rtet Sie? Ein abwechslungsreiches Kultur- und Freizeitprogramm Gemeinsame 
	Busfahrt Unterbringung bei Gastfamilien in St. Victor Persönliche Begegnu
	ngen und Einblicke in das französische Alltagsleben   Interesse? Dann me
	lden Sie sich bitte bei Frau Valérie Guérin-Sendelbach  – am besten p
	er E-Mail: v.sendelbach@yahoo.de oder telefonisch: 08193-996577Anmeldeschl
	uss und weitere Infos (Kosten für die Busfahrt etc.) folgen Ende dieses J
	ahres. Jetzt schon unverbindlich Interesse bekunden und dabei sein!Wir fre
	uen uns auf eine großartige Reise mit vielen neuen Eindrücken und netten
	 Begegnungen! Organisator Deutsch-Französischer Freundeskreis Kontakt Val
	érie Guérin-Sendelbach 08193-996577 eMail: v.sendelbach@yahoo.de
LOCATION:Saint-Victor-sur-Loire (Frankreich)
UID:a86be22a16337f457abad3b213efe641@dcdf9bebcfa66aa47b7ed4288d9616e2
END:VEVENT
BEGIN:VEVENT
CREATED:20260127T101608Z
LAST-MODIFIED:20260127T101640Z
ORGANIZER;CN="Frauenbund Geltendorf mit Hausen und Geltendorf":MAILTO:Silvia Feyrsinger\, Tel.Nr.: 017657652666\, eMail-Adresse: frauenbund-geltendorf@pfarrei-geltendorf.de
DTSTAMP:20260425T163914Z
DTSTART;VALUE=DATE:20260814
CATEGORIES:Vereine
URL:frauenbund-geltendorf@pfarrei-geltendorf.de
SUMMARY:Kräuterbuschen binden
DESCRIPTION:Wir binden gemeinsam mit dem Obst und Gartenbauverein Kräuterb
	uschen. Organisator Frauenbund Geltendorf mit Hausen und Geltendorf Kontak
	t Silvia Feyrsinger\, Tel.Nr.: 017657652666\, eMail-Adresse: frauenbund-gelt
	endorf@pfarrei-geltendorf.de
LOCATION:kath. Pfarrheim Geltendorf
UID:22ccc81691c51d7cdd8895cffed55474@dcdf9bebcfa66aa47b7ed4288d9616e2
END:VEVENT
BEGIN:VEVENT
CREATED:20250125T204324Z
LAST-MODIFIED:20260413T133828Z
STATUS:CANCELLED
ORGANIZER;CN="Thomas Keil":MAILTO:Thomas Keil
DTSTAMP:20260425T163914Z
DTSTART;VALUE=DATE:20260816
CATEGORIES:Vereine
SUMMARY:Rocking on Hausens Door Vol. 2
DESCRIPTION:Benefizveranstaltung zugunsten der Kinderkrebsforschung. Beginn
	end mit Familiennachmittag und gegen Abend wird es zum Open Air mit drei B
	ands. Weitere Informationen folgen nach meinen Besprechungen mit Jugendamt
	 und Polizei. Organisator Thomas Keil Kontakt Thomas Keil
LOCATION:Hausen
UID:6061a82104ee8c77f2dbcdb024a9b347@dcdf9bebcfa66aa47b7ed4288d9616e2
END:VEVENT
END:VCALENDAR