BEGIN:VCALENDAR
VERSION:2.0
PRODID:< http://www.open2c.de/ >
METHOD:PUBLISH
X-PUBLISHED-TTL:PT12H
BEGIN:VEVENT
CREATED:20260420T080408Z
LAST-MODIFIED:20260420T083451Z
ORGANIZER;CN="Freunde des Pfarrhofs Walleshausen e. V.":MAILTO:Kontakt : Monika Lang\, Tel.Nr.: 0151 65404155\, eMail-Adresse: info@pfarrhof-walleshausen.de
DTSTAMP:20260424T112945Z
DTSTART;VALUE=DATE:20260503
CATEGORIES:Vereine
SUMMARY:Pfarrhof-Café
DESCRIPTION:An jedem ersten Sonntag im Monat kann bei selbstgemachten Kuche
	n\, frisch gebrühtem Kaffee und Erfrischungsgetränken bei schönem Wetter
	 auf der lauschigen Terrasse des Pfarrgartens oder bei schlechtem Wetter i
	m barocken Pfarrhof von Walleshausen ein gemütlicher Nachmittag verbracht
	 werden. Das Café wird von einem kleinen Team ehrenamtlicher Helfer liebe
	voll aufgezogen. Das Team vom Pfarrhof-Café heißt Sie gerne (wieder) wil
	lkommen! Organisator Freunde des Pfarrhofs Walleshausen e. V. Kontakt Kont
	akt : Monika Lang\, Tel.Nr.: 0151 65404155\, eMail-Adresse: info@pfarrhof-wa
	lleshausen.de
LOCATION:Pfarrhof Walleshausen
UID:3e3e40a59a2db04359ebf85c20d046e5@dcdf9bebcfa66aa47b7ed4288d9616e2
END:VEVENT
END:VCALENDAR