BEGIN:VCALENDAR
VERSION:2.0
PRODID:< http://www.open2c.de/ >
METHOD:PUBLISH
X-PUBLISHED-TTL:PT12H
BEGIN:VEVENT
CREATED:20260425T144926Z
LAST-MODIFIED:20260425T145336Z
ORGANIZER;CN="DAV Sektion Geltendorf":MAILTO:Renate Maier\n\n08193-99 99 01\n\nrenate.maier@dav-geltendorf.de
DTSTAMP:20260425T225711Z
DTSTART;VALUE=DATE:20260605
CATEGORIES:Vereine
SUMMARY:Bildervortrag Toskana
DESCRIPTION:Bildervortrag: ToskanaWir laden Sie herzlich zu einem Bildervor
	trag über die Toskana ein.Um 1000 v. Chr. wanderten die Etrusker in das G
	ebiet der heutigen Toskana ein. Im 4. und 3. Jahrhundert v. Chr. wurden di
	e Städte von Rom erobert.Die Region ist bekannt für ihren Chianti-Wein s
	owie als Heimat von Puccini und Leonardo da Vinci. Auch die Vespa hat hier
	 ihren Ursprung – seit 1946 wurden über 20 Millionen dieser Roller geba
	ut.Vortrag von Hartmut Engel - Eintritt kostenlosDer Vortrag gibt Einblick
	e in Landschaft\, Orte und Hintergründe dieser vielseitigen Region. Organi
	sator DAV Sektion Geltendorf Kontakt Renate Maier 08193-99 99 01 renate.ma
	ier@dav-geltendorf.de
LOCATION:Vereinsheim DAV Geltendorf\, Am Sportplatz 2
UID:1575c08859f5717d6a44dd8fede724e4@dcdf9bebcfa66aa47b7ed4288d9616e2
END:VEVENT
END:VCALENDAR