BEGIN:VCALENDAR
VERSION:2.0
PRODID:< http://www.open2c.de/ >
METHOD:PUBLISH
X-PUBLISHED-TTL:PT12H
BEGIN:VEVENT
CREATED:20260425T145434Z
LAST-MODIFIED:20260425T145815Z
ORGANIZER;CN="DAV Sektion Geltendorf":MAILTO:Renate Maier\n\n08193-99 99 01\n\nrenate.maier@dav-geltendorf.de
DTSTAMP:20260425T215958Z
DTSTART;VALUE=DATE:20260703
CATEGORIES:Vereine
SUMMARY:Bildervortrag El Hierro & Teneriffa
DESCRIPTION:Reisebericht mit Bildern: Zwei Wochen KanarenIm März verbracht
	en wir zwei abwechslungsreiche Wochen auf den Kanarischen Inseln – eine 
	Woche auf El Hierro und eine weitere auf Teneriffa.Die Reise führte uns d
	urch ganz unterschiedliche Stimmungen: strahlender Sonnenschein wechselte 
	sich mit starken Regenfällen ab und ließ die Inseln immer wieder in eine
	m neuen Licht erscheinen. Wir entdeckten dichte Regenwälder\, raue Küsten
	\, geheimnisvolle Tunnel und Höhlen sowie eine beeindruckende Vielfalt an 
	Natur.Neben den Bildern erzählst du auch kleine Geschichten von besondere
	n Begegnungen\, überraschenden Momenten und Erlebnissen unterwegs – gena
	u jene Augenblicke\, die eine Reise unvergesslich machen.Freu dich auf eine
	n lebendigen Reisebericht voller Natur\, Stimmung und persönlicher Eindrü
	cke.Von Renate und Christoph Maier - Eintritt kostenlos Organisator DAV Se
	ktion Geltendorf Kontakt Renate Maier 08193-99 99 01 renate.maier@dav-gelt
	endorf.de
LOCATION:Vereinsheim DAV Geltendorf\, Am Sportplatz 2
UID:63168243f85c0c0a681d4ef1e66b838e@dcdf9bebcfa66aa47b7ed4288d9616e2
END:VEVENT
END:VCALENDAR