BEGIN:VCALENDAR
VERSION:2.0
PRODID:< http://www.open2c.de/ >
METHOD:PUBLISH
X-PUBLISHED-TTL:PT12H
BEGIN:VEVENT
CREATED:20260425T145828Z
LAST-MODIFIED:20260425T150409Z
ORGANIZER;CN="DAV Sektion Geltendorf":MAILTO:Renate Maier\n\n08193-99 99 01\n\nrenate.maier@dav-geltendorf.de
DTSTAMP:20260425T220147Z
DTSTART;VALUE=DATE:20260731
CATEGORIES:Vereine
SUMMARY:Bildervortrag Wales
DESCRIPTION:Wales - im Zeichen der roten Drachen Vortrag von Mike Page - Ei
	ntritt kostenlosUnsere Beziehung zu Wales fing vor 40 Jahren an\, während 
	wir beide in der Küstenstadt Aberystwyth studierten. In jüngster Zeit ha
	ben wir das Verhältnis zu diesem grünen Land an der Wetterseite von Engl
	and etwas auffrischen können\, da unser Sohn sich ebenfalls im Süden von 
	Wales zum Studieren einschrieb. Ich möchte euch nun in vier Kapiteln durc
	h Wales führen\, von Tenby im Süden bis zur Insel Angelsey im Norden mit 
	Zwischenhalt bei den Papageientaucher auf Skomer und auf Wales’ höchste
	m Berg Yr Wyddfa (Snowdon). Sowohl die Landschaft als auch die Tier- und P
	flanzenwelt zeigen sich von ihrer Glanzseite. Organisator DAV Sektion Gelt
	endorf Kontakt Renate Maier 08193-99 99 01 renate.maier@dav-geltendorf.de
LOCATION:Vereinsheim DAV Geltendorf\, Am Sportplatz 2
UID:0628b79ede31cbd0b661841557fc748f@dcdf9bebcfa66aa47b7ed4288d9616e2
END:VEVENT
END:VCALENDAR